BEGIN:VCALENDAR
VERSION:2.0
PRODID:-//Online Orthodontics Academy - ECPv6.15.20//NONSGML v1.0//EN
CALSCALE:GREGORIAN
METHOD:PUBLISH
X-WR-CALNAME:Online Orthodontics Academy
X-ORIGINAL-URL:https://o-orthodontics.academy
X-WR-CALDESC:Eventos para Online Orthodontics Academy
REFRESH-INTERVAL;VALUE=DURATION:PT1H
X-Robots-Tag:noindex
X-PUBLISHED-TTL:PT1H
BEGIN:VTIMEZONE
TZID:Europe/Madrid
BEGIN:DAYLIGHT
TZOFFSETFROM:+0100
TZOFFSETTO:+0200
TZNAME:CEST
DTSTART:20190331T010000
END:DAYLIGHT
BEGIN:STANDARD
TZOFFSETFROM:+0200
TZOFFSETTO:+0100
TZNAME:CET
DTSTART:20191027T010000
END:STANDARD
BEGIN:DAYLIGHT
TZOFFSETFROM:+0100
TZOFFSETTO:+0200
TZNAME:CEST
DTSTART:20200329T010000
END:DAYLIGHT
BEGIN:STANDARD
TZOFFSETFROM:+0200
TZOFFSETTO:+0100
TZNAME:CET
DTSTART:20201025T010000
END:STANDARD
BEGIN:DAYLIGHT
TZOFFSETFROM:+0100
TZOFFSETTO:+0200
TZNAME:CEST
DTSTART:20210328T010000
END:DAYLIGHT
BEGIN:STANDARD
TZOFFSETFROM:+0200
TZOFFSETTO:+0100
TZNAME:CET
DTSTART:20211031T010000
END:STANDARD
END:VTIMEZONE
BEGIN:VEVENT
DTSTART;VALUE=DATE:20201126
DTEND;VALUE=DATE:20201129
DTSTAMP:20260421T183340
CREATED:20200127T211126Z
LAST-MODIFIED:20200311T155008Z
UID:17479-1606348800-1606607999@o-orthodontics.academy
SUMMARY:The 3rd EAS Congress
DESCRIPTION:The 3rd European Aligner Society Congress will take place in Malta between 19th and 21st March 2020\, and the event will be opened by the Maltese Deputy Prime Minister and Minister of Health.\nThe Society has curated an absorbing program which progressively builds on the knowledge from its first two congresses (and meetings)\, and continues to explore the perpetual advances in technologies and techniques in aligner orthodontics. The Congress will draw together the latest innovations presented by an International line-up of expert speakers.\nThe program’s curators have put together two and a half days of plenary lectures\, peppered with break-out sessions and workshops\, so that the learnings are delivered in a measured way\, and allows everyone to dip in or delve deeper into subjects which interest them most.
URL:https://o-orthodontics.academy/event/the-3rd-eas-congress/
LOCATION:Hilton Malta\, St Julian's\, Portomaso\, STJ4012\, Malta
ATTACH;FMTTYPE=image/jpeg:https://o-orthodontics.academy/wp-content/uploads/2020/01/EAS-2020.jpg
END:VEVENT
BEGIN:VEVENT
DTSTART;VALUE=DATE:20201002
DTEND;VALUE=DATE:20201004
DTSTAMP:20260421T183340
CREATED:20200110T223854Z
LAST-MODIFIED:20200611T182505Z
UID:17103-1601596800-1601769599@o-orthodontics.academy
SUMMARY:CURSO ORTODONCIA AUTOLIGABLE - Dr. Rodrigo Guerrero
DESCRIPTION:PROGRAMA\n1) El desafío de las Clases II\n2) Casos quirúrgicos de la Clase III\n3) La intercepción del caos antes del caos\n4) El decálogo de la ortodoncia autoligable\n5) Cómo cobrar el tratamiento con ortodoncia autoligable\n6) Ser reconocido por pensar y actuar distinto al resto \nPONENTE\nDr. Rodrigo Guerrero\nCirujano Dentista – Ortodoncista – MBA \nEXPERIENCIA\n– Conferencista Nacional e Internacional sobre Ortodoncia y Odontología Digital\n– Propietario y Ortodoncista en Dental Spa Shile\, Santiago\, Chile\n– Cirujano Dentista y Ortodoncista\, con énfasis en Odontología Digital y Ortodoncia Autoligable\n– Profesor Clínica Odontológica Integrada en la Universidade de Santo Amaro \nFORMACIÓN\n– Universidade de Santo Amaro\, São Paulo: cirujano dentista\n– Escuela Superior de Odontología\, São Paulo: Ortodoncista\n– Escuela Superior de Odontología\, São Paulo: Certificación Sistema Damon \nRECONOCIMIENTOS\n– El nuevo Escáner Intraoral Condor\, Colonia\, Alemania\, 2019\n– Embajador en Chile de la International Digital Dentistry Academy\, Santiago\, Chile\, 2018\n– Trailblazer Award Six Month Smiles\, Boston\, EUA\, 2012 \nLOGROS\n– Profesor Online Orthodontics Academy\n– Speaker Sistema Damon en Ormco Chile\, Santiago\, Chile\n– Mentor en Odontología Digital en Condor Technologies NV Gent\, Bélgica\n– Instructor del sistema de alineadores Zahn Quito\, Ecuador
URL:https://o-orthodontics.academy/event/curso-ortodoncia-autoligable-dr-rodrigo-guerrero/
LOCATION:Hotel NH LA HABANA\, Paseo de la Habana\, 73\, Madrid\, Madrid\, 28036\, España
CATEGORIES:Spain
ATTACH;FMTTYPE=image/jpeg:https://o-orthodontics.academy/wp-content/uploads/2020/01/rodrigo-110620.jpg
END:VEVENT
BEGIN:VEVENT
DTSTART;VALUE=DATE:20200910
DTEND;VALUE=DATE:20200913
DTSTAMP:20260421T183340
CREATED:20200104T161427Z
LAST-MODIFIED:20200722T164330Z
UID:16831-1599696000-1599955199@o-orthodontics.academy
SUMMARY:V Congreso de la Sociedad Española de Alineadores | SEDA 2020 (Online)
DESCRIPTION:¿Qué es SEDA? \nLa Sociedad Española de Alineadores  | SEDA | es una sociedad científica sin ánimo de lucro que nace con el objetivo de Sumar conocimientos\, compartir Experiencias\, Divulgar las novedades y Avanzar en el desarrollo de las técnicas con alineadores en ortodoncia.
URL:https://o-orthodontics.academy/event/v-congreso-de-la-sociedad-espanola-de-alineadores-seda-2020/
CATEGORIES:Spain
ATTACH;FMTTYPE=image/jpeg:https://o-orthodontics.academy/wp-content/uploads/2020/01/seda-2020-online.jpg
END:VEVENT
BEGIN:VEVENT
DTSTART;VALUE=DATE:20200401
DTEND;VALUE=DATE:20200405
DTSTAMP:20260421T183340
CREATED:20200104T154137Z
LAST-MODIFIED:20200106T220025Z
UID:16811-1585699200-1586044799@o-orthodontics.academy
SUMMARY:AAO Annual Session 2020
DESCRIPTION:LA ASOCIACIÓN AMERICANA DE ORTODONISTAS PRESENTA \nLA EXPOSICIÓN DE ORTODONCIA MÁS GRANDE DEL MUNDO \nDurante más de cien años\, la comunidad de ortodoncia se ha reunido por todas partes para celebrar el arte y la ciencia de la ortodoncia. Esa celebración es la sesión anual. \nASISTENTES\nÚnase a sus colegas para la mayor celebración de ortodoncia del mundo del 1 al 4 de mayo de 2020 en Atlanta\, Georgia. Con más de 16\,000 asistentes y casi 400 expositores\, la Sesión Anual es más que solo 245+ oradores y 20 horas de CE. \nUbicado en la vibrante “ciudad en un bosque”\, podrás festejar en el Mercedes Benz Stadium durante las Ceremonias de Apertura y experimentar el Acuario de Georgia como nunca antes lo habías visto en la Celebración AAO. Celebre el arte y la ciencia de la ortodoncia con una serie de eventos\, exhibiciones y conferencias de vanguardia que muestran las últimas innovaciones en la especialidad de ortodoncia. \nEXPOSITORES\nCasi 400 expositores exhiben e interactúan con los asistentes a la Sesión Anual cada año en la sala de exposiciones de especialidad dental más grande del mundo. Muestre su empresa a casi 10\,000 ortodoncistas\, personal de ortodoncia e invitados relacionados con la odontología en Atlanta del 1 al 4 de mayo de 2020. \nLos expositores ya saben que los asistentes a la Sesión Anual incluyen a los tomadores de decisiones clave que necesitan conocer para hacer crecer su negocio. Ahora\, usted como expositor puede superar sus objetivos en la Sesión Anual al participar en The Exchange. Diseñado como un nuevo rincón interactivo de la Sala de Exposiciones\, The Exchange presenta nuevas oportunidades únicas para expandir su alcance más allá de su stand. \nPATROCINADORES\nAumente su alcance más allá de su stand en la Sesión Anual de este año. Nuevo en 2020: Hospitalidad matutina\, sala de desbordamiento central\, alquiler de salas de conferencias\, cafés de conversación\, celebración de AAO\, pre-fiestas de ceremonias de apertura y pasaporte de la sala de exposiciones. \nRecientemente rediseñado\, el programa de patrocinio de AAO durante todo el año recompensa a nuestra comunidad de proveedores y los alienta a comprometerse con los miembros de AAO durante todo el año. ¡Aprenda más sobre las formas emocionantes en que su empresa puede aprovechar el poder de AAO para conectarse con sus compradores!
URL:https://o-orthodontics.academy/event/aao-annual-session-2020/
LOCATION:Georgia World Congress Center\, 285 Andrew Young International Blvd NW\, Atlanta\, GA\, 30313\, Estados Unidos
CATEGORIES:USA
ATTACH;FMTTYPE=image/jpeg:https://o-orthodontics.academy/wp-content/uploads/2020/01/AAO-2020.jpg
ORGANIZER;CN="Convention Data Services":MAILTO:AAOS@xpressreg.net
END:VEVENT
BEGIN:VEVENT
DTSTART;VALUE=DATE:20200302
DTEND;VALUE=DATE:20200306
DTSTAMP:20260421T183340
CREATED:20200127T214436Z
LAST-MODIFIED:20200127T214436Z
UID:17504-1583107200-1583452799@o-orthodontics.academy
SUMMARY:Dental South China 2020
DESCRIPTION:Among the 1.4 billion people in China\, there are 110\,000 dentists and 110\,000 dental lab technicians. The ratio of dentists to total population now is 1: 12727. It was 1:100\,000 in 1985\, 1:50\,000-60\,000 in 1995\, 1:25\,000 in 2005 and up to now\, 1:13\,000 in 2010. \nThus it can be seen that the dentists have increased rapidly and the stomatology dentistry is developing fast with the booming of Chinese economy. But compared with those developed countries and regions like Europe\, America and Japan\, whose ratio of that is 1: 1000-2000\, there is still a big gap. \nOur country aims to reach the goal that every 4000-5000 persons share a dentist on average in 2030. That means in order to meet the needs of the Chinese people for dental disease treatment\, oral health care and tooth esthetic\, the number of stomatological hospitals and clinics in China will expand 5 times within the future 10-20 year. \nWith the development of Chinese stomatology dentistry and improvement of people’s living standards and consumption abilities\, people’s expectation on medical techniques and services is getting higher and higher. As a result\, the demand for high-class and good quality dental equipments and materials is increasing than ever. The survey on national dental diseases shows that over 97% Chinese people suffer from dental diseases and about 50% of the adult suffers from periodontal diseases and the incidence rate of decayed teeth is 37%.That means each person has 2.47 decayed teeth on average. In terms of the 1.4 billion population\, there are about 500 million decayed tooth patients in the whole country with total number of over 1 billion decayed teeth. Therefore\, Chinese dental market has numerous business opportunities.
URL:https://o-orthodontics.academy/event/dental-south-china-2020/
LOCATION:China Import and Export Fair Pazhou Complex\, Guangzhou\, China
END:VEVENT
BEGIN:VEVENT
DTSTART;VALUE=DATE:20200206
DTEND;VALUE=DATE:20200209
DTSTAMP:20260421T183340
CREATED:20200104T140111Z
LAST-MODIFIED:20200106T220107Z
UID:16786-1580947200-1581206399@o-orthodontics.academy
SUMMARY:IV SIMPOSIO INTERNACIONAL DE ORTODONCIA by Dr. Alberto Albadalejo
DESCRIPTION:Con verdadero entusiasmo nos preparamos para daros la Bienvenida al VI Simposio Internacional de Ortodoncia que se celebrará el 6\, 7 y 8 de febrero de 2020 en Madrid. \nSiguiendo las directrices marcadas en la anterior edición\, queremos ofreceros un programa científico de elevado nivel contando con varios de los más relevantes ortodoncistas y cirujanos del panorama nacional e internacional. Al igual que en 2019\, será acompañado de un interesante programa social que girará en torno a las Culturas del Mundo\, buscando que Ortodoncia\, Arte y Diversión vuelvan a mostrar su sinergia en un Simposio cuyo tema científico será “Tratamiento Ortodóncico Multidisciplinario”. \nEl VI Simposio de Ortodoncia tendrá lugar en el cine Kinépolis Madrid\, en las impresionantes instalaciones que este lugar ofrece. En la próxima edición se aumentará el número de ponentes internacionales\, contando con algunos de los más reputados a nivel mundial en el campo de la Ortodoncia. \nMadrid es una ciudad dinámica y acogedora\, moderna y abierta al mundo. Es una ciudad que ha desarrollado las infraestructuras necesarias para acoger grandes eventos como éste y que lo convertirá en unas de las grandes citas de la Ortodoncia en Europa. \nTrabajaremos con constancia\, cariño y esmero para poder ofreceros de nuevo un SIMPOSIO ÚNICO. \nComienza la cuenta atras…\n¡Os espero en Madrid! \nProf. Alberto Albadalejo
URL:https://o-orthodontics.academy/event/iv-simposio-internacional-de-ortodoncia-by-dr-alberto-albadalejo/
LOCATION:Kinépolis\, Calle Edgar Neville\, s/n\, Madrid\, 28223\, España
CATEGORIES:Spain
ATTACH;FMTTYPE=image/jpeg:https://o-orthodontics.academy/wp-content/uploads/2020/01/simposio-2020.jpg
ORGANIZER;CN="Alberto Albadalejo":MAILTO:info@simposiodeortodoncia.com
END:VEVENT
BEGIN:VEVENT
DTSTART;VALUE=DATE:20200204
DTEND;VALUE=DATE:20200207
DTSTAMP:20260421T183340
CREATED:20200127T213640Z
LAST-MODIFIED:20200127T213640Z
UID:17496-1580774400-1581033599@o-orthodontics.academy
SUMMARY:AEEDC Dubai 2020
DESCRIPTION:AEEDC Dubai is the largest dental event in the MENASA region. The event is now stepping into its 24th edition with the theme ‘Education & Innovation Transfer’. More than 160 international and regional speakers will deliver lectures and hands-on workshop on various aspects of dentistry. The exhibition will display the latest technologies and products by more than 2484 exhibiting companies. AEEDC Dubai Conference 2020 is accredited with 21.25 CME by DHA.
URL:https://o-orthodontics.academy/event/aeedc-dubai-2020/
LOCATION:Dubai International Convention & Exhibition Centre\, 67FQ+M4\, Dubai\, Emiratos Arabes Unidos
ATTACH;FMTTYPE=image/jpeg:https://o-orthodontics.academy/wp-content/uploads/2020/01/AEEDC-2020.jpg
END:VEVENT
BEGIN:VEVENT
DTSTART;VALUE=DATE:20200131
DTEND;VALUE=DATE:20200202
DTSTAMP:20260421T183340
CREATED:20200104T141619Z
LAST-MODIFIED:20200106T220137Z
UID:16795-1580428800-1580601599@o-orthodontics.academy
SUMMARY:VII CONGRESO NACIONAL SOCE MÁLAGA
DESCRIPTION:Málaga se ha convertido en un importante centro tecnológico a escala europea\, y por ello es la ciudad elegida para celebrar el octavo Congreso Nacional de la Sociedad Española de Odontología Digital y Nuevas tecnologías (SOCE) del 31 de Enero al 1 de Febrero  de 2020.\nHemos preparado  una edición absolutamente inédita\, en la que además de reunir a los ponentes nacionales e internacionales más importantes del momento\, por primera vez tendremos en la exposición un “speech corner” \, destinado a todos aquellos que quieran ver y probar las últimas novedades en primera persona.\nOs damos la bienvenida a este evento que cuenta con un programa pensado para los expertos igual que para los que quieran iniciarse en la odontología digital. Un atractivo programa científico de dos días\, en el que se incluyen distintos talleres y una Exposición comercial  “ExpoSoce” donde se presentaran los últimos avances tecnológicos.\nTe esperamos en Málaga.
URL:https://o-orthodontics.academy/event/vii-congreso-nacional-soce-malaga/
LOCATION:FYCMA – Palacio de Ferias y Congresos de Málaga\, Av. de José Ortega y Gasset\, 201\, Malaga\, Malaga\, 29006\, España
CATEGORIES:Spain
ATTACH;FMTTYPE=image/jpeg:https://o-orthodontics.academy/wp-content/uploads/2020/01/soce-2020.jpg
ORGANIZER;CN="Lamar de Eventos":MAILTO:secretariatecnica@socemalaga.com
END:VEVENT
END:VCALENDAR